BEGIN:VCALENDAR
VERSION:2.0
PRODID:-//Tukios.com/
BEGIN:VEVENT
UID:dc6e4123-f1d2-45ae-9f24-690e5a9f66a9@www.thorn-blackfuneralhomes.com
DTSTAMP:20260421T185722Z
DTSTART:20260425T170000Z
DTEND:20260425T190000Z
SUMMARY:Visitation
DESCRIPTION:
URL:https://www.thorn-blackfuneralhomes.com/obituaries/floyd-buck-wylie
LOCATION: 139 S 9th St  Cambridge OH 43725
GEO:40.0235737;-81.5879673
END:VEVENT
END:VCALENDAR