BEGIN:VCALENDAR
VERSION:2.0
PRODID:-//Tukios.com/
BEGIN:VEVENT
UID:187705d6-248f-4e34-bcc5-fd61a51fae17@www.thorn-blackfuneralhomes.com
DTSTAMP:20260421T190033Z
DTSTART:20260425T190000Z
DTEND:20260425T200000Z
SUMMARY:Funeral Service
DESCRIPTION:
URL:https://www.thorn-blackfuneralhomes.com/obituaries/floyd-buck-wylie
LOCATION: 139 S 9th St  Cambridge OH 43725
GEO:40.0235737;-81.5879673
END:VEVENT
END:VCALENDAR