BEGIN:VCALENDAR
VERSION:2.0
PRODID:-//Tukios.com/
BEGIN:VEVENT
UID:c4402070-e2ca-4fb9-9845-1d1b01a37cfc@www.thorn-blackfuneralhomes.com
DTSTAMP:20260422T223554Z
DTSTART:20260424T200000Z
DTEND:20260425T000000Z
SUMMARY:Visitation
DESCRIPTION:
URL:https://www.thorn-blackfuneralhomes.com/obituaries/grover-gallagher
LOCATION: 291 Pike St  Quaker City OH 43773
GEO:39.9692569;-81.2997301
END:VEVENT
END:VCALENDAR