BEGIN:VCALENDAR
VERSION:2.0
PRODID:-//Tukios.com/
BEGIN:VEVENT
UID:0c1902ed-d8a9-4820-8340-ec9cab739fa0@www.thorn-blackfuneralhomes.com
DTSTAMP:20260422T223554Z
DTSTART:20260425T150000Z
DTEND:20260425T160000Z
SUMMARY:Funeral Service
DESCRIPTION:
URL:https://www.thorn-blackfuneralhomes.com/obituaries/grover-gallagher
LOCATION: 291 Pike St  Quaker City OH 43773
GEO:39.9692569;-81.2997301
END:VEVENT
END:VCALENDAR