BEGIN:VCALENDAR
VERSION:2.0
PRODID:-//Tukios.com/
BEGIN:VEVENT
UID:0fa3ae33-aa1e-4431-8cd3-f6cd4dd4f517@www.thorn-blackfuneralhomes.com
DTSTAMP:20260421T212443Z
DTSTART:20260427T150000Z
DTEND:20260427T170000Z
SUMMARY:Visitation
DESCRIPTION:
URL:https://www.thorn-blackfuneralhomes.com/obituaries/richard-bubba-daugherty
LOCATION: 139 S 9th St  Cambridge OH 43725
GEO:40.0235737;-81.5879673
END:VEVENT
END:VCALENDAR