BEGIN:VCALENDAR
VERSION:2.0
PRODID:-//Tukios.com/
BEGIN:VEVENT
UID:c243f4fd-fe74-4a67-97e8-cda5293c6b6e@www.thorn-blackfuneralhomes.com
DTSTAMP:20260421T212652Z
DTSTART:20260427T170000Z
DTEND:20260427T180000Z
SUMMARY:Funeral Service
DESCRIPTION:
URL:https://www.thorn-blackfuneralhomes.com/obituaries/richard-bubba-daugherty
LOCATION: 139 S 9th St  Cambridge OH 43725
GEO:40.0235737;-81.5879673
END:VEVENT
END:VCALENDAR