BEGIN:VCALENDAR
VERSION:2.0
PRODID:-//Tukios.com/
BEGIN:VEVENT
UID:d737cc5d-e0e9-479c-9949-f2e257774fdc@www.thorn-blackfuneralhomes.com
DTSTAMP:20260422T192415Z
DTSTART:20260424T150000Z
DTEND:20260424T170000Z
SUMMARY:Visitation
DESCRIPTION:
URL:https://www.thorn-blackfuneralhomes.com/obituaries/sherry-feldner
LOCATION: 139 S 9th St  Cambridge OH 43725
GEO:40.0235737;-81.5879673
END:VEVENT
END:VCALENDAR