BEGIN:VCALENDAR
VERSION:2.0
PRODID:-//Tukios.com/
BEGIN:VEVENT
UID:2c9fa748-8a0f-4f03-b67e-57fe412080e6@www.thorn-blackfuneralhomes.com
DTSTAMP:20260422T192014Z
DTSTART:20260424T170000Z
DTEND:20260424T180000Z
SUMMARY:Funeral Service
DESCRIPTION:
URL:https://www.thorn-blackfuneralhomes.com/obituaries/sherry-feldner
LOCATION: 139 S 9th St  Cambridge OH 43725
GEO:40.0235737;-81.5879673
END:VEVENT
END:VCALENDAR